Workbook

Sheet Summary
A1: Govenor | B1: Votes | C1: Percentage
A2: Ken McFeeters | B2: =SUM(Autauga:Winston!B2) -> 47239 | C2: =B2/B5 -> 0.095627829
A3: "Alabama" Will Santivasci | B3: =SUM(Autauga:Winston!B3) -> 24494 | C3: =B3/B5 -> 0.0495842
A4: Thomas Tuberville | B4: =SUM(Autauga:Winston!B4) -> 422255 | C4: =B4/B5 -> 0.85478797
A5: Total | B5: =SUM(B2:B4) -> 493988 | C5: =SUM(C2:C4) -> 1
A7: Lt. Govenor | B7: Votes | C7: Percentage
A8: Wes Allen | B8: =SUM(Autauga:Winston!B8) -> 180497 | C8: =B8/B15 -> 0.37993369
A9: Pat Bishop | B9: =SUM(Autauga:Winston!B9) -> 15428 | C9: =B9/B15 -> 0.032474872
A10: George Childress | B10: =SUM(Autauga:Winston!B10) -> 10339 | C10: =B10/B15 -> 0.02176288
A11: Rick Pate | B11: =SUM(Autauga:Winston!B11) -> 34662 | C11: =B11/B15 -> 0.072961111
A12: Stewart Hill Tankersley | B12: =SUM(Autauga:Winston!B12) -> 13537 | C12: =B12/B15 -> 0.028494448
A13: Nicole Jones Wadsworth | B13: =SUM(Autauga:Winston!B13) -> 27948 | C13: =B13/B15 -> 0.058828606
A14: John Wahl | B14: =SUM(Autauga:Winston!B14) -> 192664 | C14: =B14/B15 -> 0.40554439
A15: Total | B15: =SUM(B8:B14) -> 475075 | C15: =SUM(C8:C14) -> 1
A17: Senator | B17: Votes | C17: Percentage
A18: Seth Burton | B18: =SUM(Autauga:Winston!B18) -> 15142 | C18: =B18/B25 -> 0.031379717
A19: Dale Shelton Deas Jr. | B19: =SUM(Autauga:Winston!B19) -> 10117 | C19: =B19/B25 -> 0.020966094
A20: Jared Hudson | B20: =SUM(Autauga:Winston!B20) -> 123672 | C20: =B20/B25 -> 0.25629325
A21: Steve Marshall | B21: =SUM(Autauga:Winston!B21) -> 118361 | C21: =B21/B25 -> 0.24528693
A22: Barry Moore | B22: =SUM(Autauga:Winston!B22) -> 189067 | C22: =B22/B25 -> 0.39181541
A23: Morgan Murphy | B23: =SUM(Autauga:Winston!B23) -> 6485 | C23: =B23/B25 -> 0.013439273
A24: Rodney Walker | B24: =SUM(Autauga:Winston!B24) -> 19697 | C24: =B24/B25 -> 0.040819329
A25: Total | B25: =SUM(B18:B24) -> 482541 | C25: =SUM(C18:C24) -> 1
A27: Attorney General | B27: Votes | C27: Percentage
A28: Pamela L. Casey | B28: =SUM(Autauga:Winston!B28) -> 117071 | C28: =B28/B31 -> 0.25051249
A29: Jay Mitchell | B29: =SUM(Autauga:Winston!B29) -> 160834 | C29: =B29/B31 -> 0.34415804
A30: Katherine Robertson | B30: =SUM(Autauga:Winston!B30) -> 189421 | C30: =B30/B31 -> 0.40532947
A31: Total | B31: =SUM(B28:B30) -> 467326 | C31: =SUM(C28:C30) -> 1
A33: Secretary of State | B33: Votes | C33: Percentage
A34: Caroleene Dobson | B34: =SUM(Autauga:Winston!B34) -> 287222 | C34: =B34/B37 -> 0.65466688
A35: Christopher Christian Horn | B35: =SUM(Autauga:Winston!B35) -> 99251 | C35: =B35/B37 -> 0.22622342
A36: Glenda S. Jackson | B36: =SUM(Autauga:Winston!B36) -> 52257 | C36: =B36/B37 -> 0.1191097
A37: Total | B37: =SUM(B34:B36) -> 438730 | C37: =SUM(C34:C36) -> 1
A39: Treasurer | B39: Votes | C39: Percentage
A40: Young Boozer | B40: =SUM(Autauga:Winston!B40) -> 306630 | C40: =B40/B42 -> 0.68033263
A41: Steve Lolley | B41: =SUM(Autauga:Winston!B41) -> 144076 | C41: =B41/B42 -> 0.31966737
A42: Total | B42: =SUM(B39:B41) -> 450706 | C42: =SUM(C39:C41) -> 1
A44: Auditor | B44: Votes | C44: Percentage
A45: Derek Chen | B45: =SUM(Autauga:Winston!B45) -> 141827 | C45: =B45/B47 -> 0.3206224
A46: Andrew Sorrell | B46: =SUM(Autauga:Winston!B46) -> 300522 | C46: =B46/B47 -> 0.6793776
...

Sheet Autauga
A1: Govenor | B1: Votes | C1: Percentage
A2: Ken McFeeters | B2: 604 | C2: =B2/B5 -> 0.076368694
A3: "Alabama" Will Santivasci | B3: 368 | C3: =B3/B5 -> 0.04652927
A4: Thomas Tuberville | B4: 6937 | C4: =B4/B5 -> 0.87710204
A5: Total | B5: =SUM(B2:B4) -> 7909 | C5: =SUM(C2:C4) -> 1
A7: Lt. Govenor | B7: Votes | C7: Percentage
A8: Wes Allen | B8: 2958 | C8: =B8/B15 -> 0.38616188
A9: Pat Bishop | B9: 155 | C9: =B9/B15 -> 0.020234987
A10: George Childress | B10: 131 | C10: =B10/B15 -> 0.017101828
A11: Rick Pate | B11: 1204 | C11: =B11/B15 -> 0.15718016
A12: Stewart Hill Tankersley | B12: 389 | C12: =B12/B15 -> 0.05078329
A13: Nicole Jones Wadsworth | B13: 411 | C13: =B13/B15 -> 0.053655352
A14: John Wahl | B14: 2412 | C14: =B14/B15 -> 0.31488251
A15: Total | B15: =SUM(B8:B14) -> 7660 | C15: =SUM(C8:C14) -> 1
A17: Senator | B17: Votes | C17: Percentage
A18: Seth Burton | B18: 161 | C18: =B18/B25 -> 0.020683453
A19: Dale Shelton Deas Jr. | B19: 111 | C19: =B19/B25 -> 0.014260021
A20: Jared Hudson | B20: 1520 | C20: =B20/B25 -> 0.19527235
A21: Steve Marshall | B21: 1929 | C21: =B21/B25 -> 0.24781603
A22: Barry Moore | B22: 3791 | C22: =B22/B25 -> 0.48702467
A23: Morgan Murphy | B23: 69 | C23: =B23/B25 -> 0.0088643371
A24: Rodney Walker | B24: 203 | C24: =B24/B25 -> 0.026079137
A25: Total | B25: =SUM(B18:B24) -> 7784 | C25: =SUM(C18:C24) -> 1
A27: Attorney General | B27: Votes | C27: Percentage
A28: Pamela L. Casey | B28: 1721 | C28: =B28/B31 -> 0.22752512
A29: Jay Mitchell | B29: 3134 | C29: =B29/B31 -> 0.41433104
A30: Katherine Robertson | B30: 2709 | C30: =B30/B31 -> 0.35814384
A31: Total | B31: =SUM(B28:B30) -> 7564 | C31: =SUM(C28:C30) -> 1
A33: Secretary of State | B33: Votes | C33: Percentage
A34: Caroleene Dobson | B34: 5098 | C34: =B34/B37 -> 0.71280761
A35: Christopher Christian Horn | B35: 1409 | C35: =B35/B37 -> 0.19700783
A36: Glenda S. Jackson | B36: 645 | C36: =B36/B37 -> 0.090184564
A37: Total | B37: =SUM(B34:B36) -> 7152 | C37: =SUM(C34:C36) -> 1
A39: Treasurer | B39: Votes | C39: Percentage
A40: Young Boozer | B40: 5794 | C40: =B40/B42 -> 0.7766756
A41: Steve Lolley | B41: 1666 | C41: =B41/B42 -> 0.2233244
A42: Total | B42: =SUM(B39:B41) -> 7460 | C42: =SUM(C39:C41) -> 1
A44: Auditor | B44: Votes | C44: Percentage
A45: Derek Chen | B45: 2573 | C45: =B45/B47 -> 0.3556815
A46: Andrew Sorrell | B46: 4661 | C46: =B46/B47 -> 0.6443185
...

Sheet Baldwin
A1: Govenor | B1: Votes | C1: Percentage
A2: Ken McFeeters | B2: 3704 | C2: =B2/B5 -> 0.11319601
A3: "Alabama" Will Santivasci | B3: 1956 | C3: =B3/B5 -> 0.059776297
A4: Thomas Tuberville | B4: 27062 | C4: =B4/B5 -> 0.82702769
A5: Total | B5: =SUM(B2:B4) -> 32722 | C5: =SUM(C2:C4) -> 1
A7: Lt. Govenor | B7: Votes | C7: Percentage
A8: Wes Allen | B8: 8874 | C8: =B8/B15 -> 0.28282764
A9: Pat Bishop | B9: 1198 | C9: =B9/B15 -> 0.03818205
A10: George Childress | B10: 1252 | C10: =B10/B15 -> 0.039903111
A11: Rick Pate | B11: 1923 | C11: =B11/B15 -> 0.061288883
A12: Stewart Hill Tankersley | B12: 698 | C12: =B12/B15 -> 0.022246303
A13: Nicole Jones Wadsworth | B13: 2329 | C13: =B13/B15 -> 0.07422871
A14: John Wahl | B14: 15102 | C14: =B14/B15 -> 0.4813233
A15: Total | B15: =SUM(B8:B14) -> 31376 | C15: =SUM(C8:C14) -> 1
A17: Senator | B17: Votes | C17: Percentage
A18: Seth Burton | B18: 1051 | C18: =B18/B25 -> 0.033396886
A19: Dale Shelton Deas Jr. | B19: 1166 | C19: =B19/B25 -> 0.03705116
A20: Jared Hudson | B20: 5797 | C20: =B20/B25 -> 0.18420718
A21: Steve Marshall | B21: 5422 | C21: =B21/B25 -> 0.17229107
A22: Barry Moore | B22: 16123 | C22: =B22/B25 -> 0.5123292
A23: Morgan Murphy | B23: 604 | C23: =B23/B25 -> 0.019192882
A24: Rodney Walker | B24: 1307 | C24: =B24/B25 -> 0.041531617
A25: Total | B25: =SUM(B18:B24) -> 31470 | C25: =SUM(C18:C24) -> 1
A27: Attorney General | B27: Votes | C27: Percentage
A28: Pamela L. Casey | B28: 7352 | C28: =B28/B31 -> 0.23928397
A29: Jay Mitchell | B29: 9357 | C29: =B29/B31 -> 0.30454028
A30: Katherine Robertson | B30: 14016 | C30: =B30/B31 -> 0.45617575
A31: Total | B31: =SUM(B28:B30) -> 30725 | C31: =SUM(C28:C30) -> 1
A33: Secretary of State | B33: Votes | C33: Percentage
A34: Caroleene Dobson | B34: 20566 | C34: =B34/B37 -> 0.7017915
A35: Christopher Christian Horn | B35: 5884 | C35: =B35/B37 -> 0.20078485
A36: Glenda S. Jackson | B36: 2855 | C36: =B36/B37 -> 0.097423648
A37: Total | B37: =SUM(B34:B36) -> 29305 | C37: =SUM(C34:C36) -> 1
A39: Treasurer | B39: Votes | C39: Percentage
A40: Young Boozer | B40: 20812 | C40: =B40/B42 -> 0.69064844
A41: Steve Lolley | B41: 9322 | C41: =B41/B42 -> 0.30935156
A42: Total | B42: =SUM(B39:B41) -> 30134 | C42: =SUM(C39:C41) -> 1
A44: Auditor | B44: Votes | C44: Percentage
A45: Derek Chen | B45: 9775 | C45: =B45/B47 -> 0.34004731
A46: Andrew Sorrell | B46: 18971 | C46: =B46/B47 -> 0.65995269
...

Sheet Barbour
A1: Govenor | B1: Votes | C1: Percentage
A2: Ken McFeeters | B2: 78 | C2: =B2/B5 -> 0.045322487
A3: "Alabama" Will Santivasci | B3: 58 | C3: =B3/B5 -> 0.033701336
A4: Thomas Tuberville | B4: 1585 | C4: =B4/B5 -> 0.92097618
A5: Total | B5: =SUM(B2:B4) -> 1721 | C5: =SUM(C2:C4) -> 1
A7: Lt. Govenor | B7: Votes | C7: Percentage
A8: Wes Allen | B8: 598 | C8: =B8/B15 -> 0.35980746
A9: Pat Bishop | B9: 32 | C9: =B9/B15 -> 0.019253911
A10: George Childress | B10: 27 | C10: =B10/B15 -> 0.016245487
A11: Rick Pate | B11: 89 | C11: =B11/B15 -> 0.05354994
A12: Stewart Hill Tankersley | B12: 19 | C12: =B12/B15 -> 0.01143201
A13: Nicole Jones Wadsworth | B13: 37 | C13: =B13/B15 -> 0.022262335
A14: John Wahl | B14: 860 | C14: =B14/B15 -> 0.51744886
A15: Total | B15: =SUM(B8:B14) -> 1662 | C15: =SUM(C8:C14) -> 1
A17: Senator | B17: Votes | C17: Percentage
A18: Seth Burton | B18: 33 | C18: =B18/B25 -> 0.019549763
A19: Dale Shelton Deas Jr. | B19: 23 | C19: =B19/B25 -> 0.013625592
A20: Jared Hudson | B20: 242 | C20: =B20/B25 -> 0.14336493
A21: Steve Marshall | B21: 310 | C21: =B21/B25 -> 0.18364929
A22: Barry Moore | B22: 1025 | C22: =B22/B25 -> 0.60722749
A23: Morgan Murphy | B23: 20 | C23: =B23/B25 -> 0.011848341
A24: Rodney Walker | B24: 35 | C24: =B24/B25 -> 0.020734597
A25: Total | B25: =SUM(B18:B24) -> 1688 | C25: =SUM(C18:C24) -> 1
A27: Attorney General | B27: Votes | C27: Percentage
A28: Pamela L. Casey | B28: 225 | C28: =B28/B31 -> 0.13595166
A29: Jay Mitchell | B29: 671 | C29: =B29/B31 -> 0.40543807
A30: Katherine Robertson | B30: 759 | C30: =B30/B31 -> 0.45861027
A31: Total | B31: =SUM(B28:B30) -> 1655 | C31: =SUM(C28:C30) -> 1
A33: Secretary of State | B33: Votes | C33: Percentage
A34: Caroleene Dobson | B34: 1206 | C34: =B34/B37 -> 0.7472119
A35: Christopher Christian Horn | B35: 314 | C35: =B35/B37 -> 0.19454771
A36: Glenda S. Jackson | B36: 94 | C36: =B36/B37 -> 0.058240397
A37: Total | B37: =SUM(B34:B36) -> 1614 | C37: =SUM(C34:C36) -> 1
A39: Treasurer | B39: Votes | C39: Percentage
A40: Young Boozer | B40: 1200 | C40: =B40/B42 -> 0.74349442
A41: Steve Lolley | B41: 414 | C41: =B41/B42 -> 0.25650558
A42: Total | B42: =SUM(B39:B41) -> 1614 | C42: =SUM(C39:C41) -> 1
A44: Auditor | B44: Votes | C44: Percentage
A45: Derek Chen | B45: 418 | C45: =B45/B47 -> 0.26709265
A46: Andrew Sorrell | B46: 1147 | C46: =B46/B47 -> 0.73290735
...

Sheet Bibb
A1: Govenor | B1: Votes | C1: Percentage
A2: Ken McFeeters | B2: 184 | C2: =B2/B5 -> 0.061952862
A3: "Alabama" Will Santivasci | B3: 131 | C3: =B3/B5 -> 0.044107744
A4: Thomas Tuberville | B4: 2655 | C4: =B4/B5 -> 0.89393939
A5: Total | B5: =SUM(B2:B4) -> 2970 | C5: =SUM(C2:C4) -> 1
A7: Lt. Govenor | B7: Votes | C7: Percentage
A8: Wes Allen | B8: 1682 | C8: =B8/B15 -> 0.57191431
A9: Pat Bishop | B9: 58 | C9: =B9/B15 -> 0.019721183
A10: George Childress | B10: 35 | C10: =B10/B15 -> 0.011900714
A11: Rick Pate | B11: 119 | C11: =B11/B15 -> 0.040462428
A12: Stewart Hill Tankersley | B12: 22 | C12: =B12/B15 -> 0.0074804488
A13: Nicole Jones Wadsworth | B13: 93 | C13: =B13/B15 -> 0.031621897
A14: John Wahl | B14: 932 | C14: =B14/B15 -> 0.31689901
A15: Total | B15: =SUM(B8:B14) -> 2941 | C15: =SUM(C8:C14) -> 1
A17: Senator | B17: Votes | C17: Percentage
A18: Seth Burton | B18: 82 | C18: =B18/B25 -> 0.028324698
A19: Dale Shelton Deas Jr. | B19: 37 | C19: =B19/B25 -> 0.012780656
A20: Jared Hudson | B20: 958 | C20: =B20/B25 -> 0.33091537
A21: Steve Marshall | B21: 861 | C21: =B21/B25 -> 0.29740933
A22: Barry Moore | B22: 881 | C22: =B22/B25 -> 0.30431779
A23: Morgan Murphy | B23: 31 | C23: =B23/B25 -> 0.010708117
A24: Rodney Walker | B24: 45 | C24: =B24/B25 -> 0.015544041
A25: Total | B25: =SUM(B18:B24) -> 2895 | C25: =SUM(C18:C24) -> 1
A27: Attorney General | B27: Votes | C27: Percentage
A28: Pamela L. Casey | B28: 584 | C28: =B28/B31 -> 0.209319
A29: Jay Mitchell | B29: 989 | C29: =B29/B31 -> 0.35448029
A30: Katherine Robertson | B30: 1217 | C30: =B30/B31 -> 0.43620072
A31: Total | B31: =SUM(B28:B30) -> 2790 | C31: =SUM(C28:C30) -> 1
A33: Secretary of State | B33: Votes | C33: Percentage
A34: Caroleene Dobson | B34: 1741 | C34: =B34/B37 -> 0.65377394
A35: Christopher Christian Horn | B35: 607 | C35: =B35/B37 -> 0.22793842
A36: Glenda S. Jackson | B36: 315 | C36: =B36/B37 -> 0.11828765
A37: Total | B37: =SUM(B34:B36) -> 2663 | C37: =SUM(C34:C36) -> 1
A39: Treasurer | B39: Votes | C39: Percentage
A40: Young Boozer | B40: 1953 | C40: =B40/B42 -> 0.70837867
A41: Steve Lolley | B41: 804 | C41: =B41/B42 -> 0.29162133
A42: Total | B42: =SUM(B39:B41) -> 2757 | C42: =SUM(C39:C41) -> 1
A44: Auditor | B44: Votes | C44: Percentage
A45: Derek Chen | B45: 910 | C45: =B45/B47 -> 0.33272395
A46: Andrew Sorrell | B46: 1825 | C46: =B46/B47 -> 0.66727605
...

Sheet Blount
A1: Govenor | B1: Votes | C1: Percentage
A2: Ken McFeeters | B2: 648 | C2: =B2/B5 -> 0.073586191
A3: "Alabama" Will Santivasci | B3: 349 | C3: =B3/B5 -> 0.039632069
A4: Thomas Tuberville | B4: 7809 | C4: =B4/B5 -> 0.88678174
A5: Total | B5: =SUM(B2:B4) -> 8806 | C5: =SUM(C2:C4) -> 1
A7: Lt. Govenor | B7: Votes | C7: Percentage
A8: Wes Allen | B8: 3517 | C8: =B8/B15 -> 0.42322503
A9: Pat Bishop | B9: 309 | C9: =B9/B15 -> 0.037184116
A10: George Childress | B10: 140 | C10: =B10/B15 -> 0.016847172
A11: Rick Pate | B11: 514 | C11: =B11/B15 -> 0.061853189
A12: Stewart Hill Tankersley | B12: 201 | C12: =B12/B15 -> 0.024187726
A13: Nicole Jones Wadsworth | B13: 341 | C13: =B13/B15 -> 0.041034898
A14: John Wahl | B14: 3288 | C14: =B14/B15 -> 0.39566787
A15: Total | B15: =SUM(B8:B14) -> 8310 | C15: =SUM(C8:C14) -> 1
A17: Senator | B17: Votes | C17: Percentage
A18: Seth Burton | B18: 142 | C18: =B18/B25 -> 0.016338741
A19: Dale Shelton Deas Jr. | B19: 141 | C19: =B19/B25 -> 0.01622368
A20: Jared Hudson | B20: 4020 | C20: =B20/B25 -> 0.46254746
A21: Steve Marshall | B21: 2130 | C21: =B21/B25 -> 0.24508112
A22: Barry Moore | B22: 2005 | C22: =B22/B25 -> 0.23069842
A23: Morgan Murphy | B23: 54 | C23: =B23/B25 -> 0.0062133241
A24: Rodney Walker | B24: 199 | C24: =B24/B25 -> 0.02289725
A25: Total | B25: =SUM(B18:B24) -> 8691 | C25: =SUM(C18:C24) -> 1
A27: Attorney General | B27: Votes | C27: Percentage
A28: Pamela L. Casey | B28: 5222 | C28: =B28/B31 -> 0.59159397
A29: Jay Mitchell | B29: 1806 | C29: =B29/B31 -> 0.20459952
A30: Katherine Robertson | B30: 1799 | C30: =B30/B31 -> 0.2038065
A31: Total | B31: =SUM(B28:B30) -> 8827 | C31: =SUM(C28:C30) -> 1
A33: Secretary of State | B33: Votes | C33: Percentage
A34: Caroleene Dobson | B34: 4711 | C34: =B34/B37 -> 0.61373111
A35: Christopher Christian Horn | B35: 2157 | C35: =B35/B37 -> 0.28100573
A36: Glenda S. Jackson | B36: 808 | C36: =B36/B37 -> 0.10526316
A37: Total | B37: =SUM(B34:B36) -> 7676 | C37: =SUM(C34:C36) -> 1
A39: Treasurer | B39: Votes | C39: Percentage
A40: Young Boozer | B40: 5076 | C40: =B40/B42 -> 0.63945578
A41: Steve Lolley | B41: 2862 | C41: =B41/B42 -> 0.36054422
A42: Total | B42: =SUM(B39:B41) -> 7938 | C42: =SUM(C39:C41) -> 1
A44: Auditor | B44: Votes | C44: Percentage
A45: Derek Chen | B45: 2509 | C45: =B45/B47 -> 0.31961783
A46: Andrew Sorrell | B46: 5341 | C46: =B46/B47 -> 0.68038217
...

Sheet Bullock
A1: Govenor | B1: Votes | C1: Percentage
A2: Ken McFeeters | B2: 11 | C2: =B2/B5 -> 0.049107143
A3: "Alabama" Will Santivasci | B3: 3 | C3: =B3/B5 -> 0.013392857
A4: Thomas Tuberville | B4: 210 | C4: =B4/B5 -> 0.9375
A5: Total | B5: =SUM(B2:B4) -> 224 | C5: =SUM(C2:C4) -> 1
A7: Lt. Govenor | B7: Votes | C7: Percentage
A8: Wes Allen | B8: 112 | C8: =B8/B15 -> 0.52093023
A9: Pat Bishop | B9: 2 | C9: =B9/B15 -> 0.0093023256
A10: George Childress | B10: 2 | C10: =B10/B15 -> 0.0093023256
A11: Rick Pate | B11: 22 | C11: =B11/B15 -> 0.10232558
A12: Stewart Hill Tankersley | B12: 16 | C12: =B12/B15 -> 0.074418605
A13: Nicole Jones Wadsworth | B13: 0 | C13: =B13/B15 -> 0
A14: John Wahl | B14: 61 | C14: =B14/B15 -> 0.28372093
A15: Total | B15: =SUM(B8:B14) -> 215 | C15: =SUM(C8:C14) -> 1
A17: Senator | B17: Votes | C17: Percentage
A18: Seth Burton | B18: 3 | C18: =B18/B25 -> 0.013824885
A19: Dale Shelton Deas Jr. | B19: 4 | C19: =B19/B25 -> 0.01843318
A20: Jared Hudson | B20: 32 | C20: =B20/B25 -> 0.14746544
A21: Steve Marshall | B21: 42 | C21: =B21/B25 -> 0.19354839
A22: Barry Moore | B22: 129 | C22: =B22/B25 -> 0.59447005
A23: Morgan Murphy | B23: 1 | C23: =B23/B25 -> 0.0046082949
A24: Rodney Walker | B24: 6 | C24: =B24/B25 -> 0.02764977
A25: Total | B25: =SUM(B18:B24) -> 217 | C25: =SUM(C18:C24) -> 1
A27: Attorney General | B27: Votes | C27: Percentage
A28: Pamela L. Casey | B28: 50 | C28: =B28/B31 -> 0.2283105
A29: Jay Mitchell | B29: 68 | C29: =B29/B31 -> 0.31050228
A30: Katherine Robertson | B30: 101 | C30: =B30/B31 -> 0.46118721
A31: Total | B31: =SUM(B28:B30) -> 219 | C31: =SUM(C28:C30) -> 1
A33: Secretary of State | B33: Votes | C33: Percentage
A34: Caroleene Dobson | B34: 183 | C34: =B34/B37 -> 0.86320755
A35: Christopher Christian Horn | B35: 23 | C35: =B35/B37 -> 0.10849057
A36: Glenda S. Jackson | B36: 6 | C36: =B36/B37 -> 0.028301887
A37: Total | B37: =SUM(B34:B36) -> 212 | C37: =SUM(C34:C36) -> 1
A39: Treasurer | B39: Votes | C39: Percentage
A40: Young Boozer | B40: 181 | C40: =B40/B42 -> 0.86602871
A41: Steve Lolley | B41: 28 | C41: =B41/B42 -> 0.13397129
A42: Total | B42: =SUM(B39:B41) -> 209 | C42: =SUM(C39:C41) -> 1
A44: Auditor | B44: Votes | C44: Percentage
A45: Derek Chen | B45: 90 | C45: =B45/B47 -> 0.43269231
A46: Andrew Sorrell | B46: 118 | C46: =B46/B47 -> 0.56730769
...

Sheet Butler
A1: Govenor | B1: Votes | C1: Percentage
A2: Ken McFeeters | B2: 114 | C2: =B2/B5 -> 0.043067624
A3: "Alabama" Will Santivasci | B3: 55 | C3: =B3/B5 -> 0.02077824
A4: Thomas Tuberville | B4: 2478 | C4: =B4/B5 -> 0.93615414
A5: Total | B5: =SUM(B2:B4) -> 2647 | C5: =SUM(C2:C4) -> 1
A7: Lt. Govenor | B7: Votes | C7: Percentage
A8: Wes Allen | B8: 1134 | C8: =B8/B15 -> 0.45107399
A9: Pat Bishop | B9: 62 | C9: =B9/B15 -> 0.024661893
A10: George Childress | B10: 38 | C10: =B10/B15 -> 0.015115354
A11: Rick Pate | B11: 437 | C11: =B11/B15 -> 0.17382657
A12: Stewart Hill Tankersley | B12: 58 | C12: =B12/B15 -> 0.023070804
A13: Nicole Jones Wadsworth | B13: 80 | C13: =B13/B15 -> 0.031821798
A14: John Wahl | B14: 705 | C14: =B14/B15 -> 0.28042959
A15: Total | B15: =SUM(B8:B14) -> 2514 | C15: =SUM(C8:C14) -> 1
A17: Senator | B17: Votes | C17: Percentage
A18: Seth Burton | B18: 34 | C18: =B18/B25 -> 0.013076923
A19: Dale Shelton Deas Jr. | B19: 17 | C19: =B19/B25 -> 0.0065384615
A20: Jared Hudson | B20: 314 | C20: =B20/B25 -> 0.12076923
A21: Steve Marshall | B21: 923 | C21: =B21/B25 -> 0.355
A22: Barry Moore | B22: 1249 | C22: =B22/B25 -> 0.48038462
A23: Morgan Murphy | B23: 17 | C23: =B23/B25 -> 0.0065384615
A24: Rodney Walker | B24: 46 | C24: =B24/B25 -> 0.017692308
A25: Total | B25: =SUM(B18:B24) -> 2600 | C25: =SUM(C18:C24) -> 1
A27: Attorney General | B27: Votes | C27: Percentage
A28: Pamela L. Casey | B28: 799 | C28: =B28/B31 -> 0.3161852
A29: Jay Mitchell | B29: 768 | C29: =B29/B31 -> 0.30391769
A30: Katherine Robertson | B30: 960 | C30: =B30/B31 -> 0.37989711
A31: Total | B31: =SUM(B28:B30) -> 2527 | C31: =SUM(C28:C30) -> 1
A33: Secretary of State | B33: Votes | C33: Percentage
A34: Caroleene Dobson | B34: 2119 | C34: =B34/B37 -> 0.84220986
A35: Christopher Christian Horn | B35: 279 | C35: =B35/B37 -> 0.1108903
A36: Glenda S. Jackson | B36: 118 | C36: =B36/B37 -> 0.046899841
A37: Total | B37: =SUM(B34:B36) -> 2516 | C37: =SUM(C34:C36) -> 1
A39: Treasurer | B39: Votes | C39: Percentage
A40: Young Boozer | B40: 1938 | C40: =B40/B42 -> 0.78113664
A41: Steve Lolley | B41: 543 | C41: =B41/B42 -> 0.21886336
A42: Total | B42: =SUM(B39:B41) -> 2481 | C42: =SUM(C39:C41) -> 1
A44: Auditor | B44: Votes | C44: Percentage
A45: Derek Chen | B45: 872 | C45: =B45/B47 -> 0.35988444
A46: Andrew Sorrell | B46: 1551 | C46: =B46/B47 -> 0.64011556
...

Sheet Calhoun
A1: Govenor | B1: Votes | C1: Percentage
A2: Ken McFeeters | B2: 901 | C2: =B2/B5 -> 0.085257381
A3: "Alabama" Will Santivasci | B3: 806 | C3: =B3/B5 -> 0.076267979
A4: Thomas Tuberville | B4: 8861 | C4: =B4/B5 -> 0.83847464
A5: Total | B5: =SUM(B2:B4) -> 10568 | C5: =SUM(C2:C4) -> 1
A7: Lt. Govenor | B7: Votes | C7: Percentage
A8: Wes Allen | B8: 3671 | C8: =B8/B15 -> 0.36618454
A9: Pat Bishop | B9: 304 | C9: =B9/B15 -> 0.03032419
A10: George Childress | B10: 241 | C10: =B10/B15 -> 0.0240399
A11: Rick Pate | B11: 795 | C11: =B11/B15 -> 0.079301746
A12: Stewart Hill Tankersley | B12: 221 | C12: =B12/B15 -> 0.022044888
A13: Nicole Jones Wadsworth | B13: 499 | C13: =B13/B15 -> 0.049775561
A14: John Wahl | B14: 4294 | C14: =B14/B15 -> 0.42832918
A15: Total | B15: =SUM(B8:B14) -> 10025 | C15: =SUM(C8:C14) -> 1
A17: Senator | B17: Votes | C17: Percentage
A18: Seth Burton | B18: 232 | C18: =B18/B25 -> 0.022522085
A19: Dale Shelton Deas Jr. | B19: 168 | C19: =B19/B25 -> 0.016309096
A20: Jared Hudson | B20: 2615 | C20: =B20/B25 -> 0.25385885
A21: Steve Marshall | B21: 3208 | C21: =B21/B25 -> 0.31142608
A22: Barry Moore | B22: 3232 | C22: =B22/B25 -> 0.31375595
A23: Morgan Murphy | B23: 141 | C23: =B23/B25 -> 0.013687991
A24: Rodney Walker | B24: 705 | C24: =B24/B25 -> 0.068439957
A25: Total | B25: =SUM(B18:B24) -> 10301 | C25: =SUM(C18:C24) -> 1
A27: Attorney General | B27: Votes | C27: Percentage
A28: Pamela L. Casey | B28: 2363 | C28: =B28/B31 -> 0.23890405
A29: Jay Mitchell | B29: 3501 | C29: =B29/B31 -> 0.35395814
A30: Katherine Robertson | B30: 4027 | C30: =B30/B31 -> 0.4071378
A31: Total | B31: =SUM(B28:B30) -> 9891 | C31: =SUM(C28:C30) -> 1
A33: Secretary of State | B33: Votes | C33: Percentage
A34: Caroleene Dobson | B34: 5306 | C34: =B34/B37 -> 0.58033468
A35: Christopher Christian Horn | B35: 2430 | C35: =B35/B37 -> 0.2657771
A36: Glenda S. Jackson | B36: 1407 | C36: =B36/B37 -> 0.15388822
A37: Total | B37: =SUM(B34:B36) -> 9143 | C37: =SUM(C34:C36) -> 1
A39: Treasurer | B39: Votes | C39: Percentage
A40: Young Boozer | B40: 6273 | C40: =B40/B42 -> 0.67342995
A41: Steve Lolley | B41: 3042 | C41: =B41/B42 -> 0.32657005
A42: Total | B42: =SUM(B39:B41) -> 9315 | C42: =SUM(C39:C41) -> 1
A44: Auditor | B44: Votes | C44: Percentage
A45: Derek Chen | B45: 3122 | C45: =B45/B47 -> 0.33166897
A46: Andrew Sorrell | B46: 6291 | C46: =B46/B47 -> 0.66833103
...

Sheet Chambers
A1: Govenor | B1: Votes | C1: Percentage
A2: Ken McFeeters | B2: 207 | C2: =B2/B5 -> 0.071231934
A3: "Alabama" Will Santivasci | B3: 117 | C3: =B3/B5 -> 0.040261528
A4: Thomas Tuberville | B4: 2582 | C4: =B4/B5 -> 0.88850654
A5: Total | B5: =SUM(B2:B4) -> 2906 | C5: =SUM(C2:C4) -> 1
A7: Lt. Govenor | B7: Votes | C7: Percentage
A8: Wes Allen | B8: 716 | C8: =B8/B15 -> 0.26716418
A9: Pat Bishop | B9: 132 | C9: =B9/B15 -> 0.049253731
A10: George Childress | B10: 106 | C10: =B10/B15 -> 0.039552239
A11: Rick Pate | B11: 224 | C11: =B11/B15 -> 0.08358209
A12: Stewart Hill Tankersley | B12: 66 | C12: =B12/B15 -> 0.024626866
A13: Nicole Jones Wadsworth | B13: 140 | C13: =B13/B15 -> 0.052238806
A14: John Wahl | B14: 1296 | C14: =B14/B15 -> 0.48358209
A15: Total | B15: =SUM(B8:B14) -> 2680 | C15: =SUM(C8:C14) -> 1
A17: Senator | B17: Votes | C17: Percentage
A18: Seth Burton | B18: 148 | C18: =B18/B25 -> 0.055409959
A19: Dale Shelton Deas Jr. | B19: 64 | C19: =B19/B25 -> 0.023961063
A20: Jared Hudson | B20: 449 | C20: =B20/B25 -> 0.16810183
A21: Steve Marshall | B21: 514 | C21: =B21/B25 -> 0.19243729
A22: Barry Moore | B22: 1199 | C22: =B22/B25 -> 0.44889554
A23: Morgan Murphy | B23: 55 | C23: =B23/B25 -> 0.020591539
A24: Rodney Walker | B24: 242 | C24: =B24/B25 -> 0.09060277
A25: Total | B25: =SUM(B18:B24) -> 2671 | C25: =SUM(C18:C24) -> 1
A27: Attorney General | B27: Votes | C27: Percentage
A28: Pamela L. Casey | B28: 526 | C28: =B28/B31 -> 0.19939348
A29: Jay Mitchell | B29: 1312 | C29: =B29/B31 -> 0.49734647
A30: Katherine Robertson | B30: 800 | C30: =B30/B31 -> 0.30326005
A31: Total | B31: =SUM(B28:B30) -> 2638 | C31: =SUM(C28:C30) -> 1
A33: Secretary of State | B33: Votes | C33: Percentage
A34: Caroleene Dobson | B34: 1218 | C34: =B34/B37 -> 0.49411765
A35: Christopher Christian Horn | B35: 796 | C35: =B35/B37 -> 0.32292089
A36: Glenda S. Jackson | B36: 451 | C36: =B36/B37 -> 0.18296146
A37: Total | B37: =SUM(B34:B36) -> 2465 | C37: =SUM(C34:C36) -> 1
A39: Treasurer | B39: Votes | C39: Percentage
A40: Young Boozer | B40: 1445 | C40: =B40/B42 -> 0.56934594
A41: Steve Lolley | B41: 1093 | C41: =B41/B42 -> 0.43065406
A42: Total | B42: =SUM(B39:B41) -> 2538 | C42: =SUM(C39:C41) -> 1
A44: Auditor | B44: Votes | C44: Percentage
A45: Derek Chen | B45: 613 | C45: =B45/B47 -> 0.25164204
A46: Andrew Sorrell | B46: 1823 | C46: =B46/B47 -> 0.74835796
...

Sheet Cherokee
A1: Govenor | B1: Votes | C1: Percentage
A2: Ken McFeeters | B2: 258 | C2: =B2/B5 -> 0.074523397
A3: "Alabama" Will Santivasci | B3: 144 | C3: =B3/B5 -> 0.041594454
A4: Thomas Tuberville | B4: 3060 | C4: =B4/B5 -> 0.88388215
A5: Total | B5: =SUM(B2:B4) -> 3462 | C5: =SUM(C2:C4) -> 1
A7: Lt. Govenor | B7: Votes | C7: Percentage
A8: Wes Allen | B8: 1299 | C8: =B8/B15 -> 0.3926844
A9: Pat Bishop | B9: 84 | C9: =B9/B15 -> 0.025392987
A10: George Childress | B10: 79 | C10: =B10/B15 -> 0.023881499
A11: Rick Pate | B11: 243 | C11: =B11/B15 -> 0.073458283
A12: Stewart Hill Tankersley | B12: 61 | C12: =B12/B15 -> 0.018440145
A13: Nicole Jones Wadsworth | B13: 165 | C13: =B13/B15 -> 0.049879081
A14: John Wahl | B14: 1377 | C14: =B14/B15 -> 0.4162636
A15: Total | B15: =SUM(B8:B14) -> 3308 | C15: =SUM(C8:C14) -> 1
A17: Senator | B17: Votes | C17: Percentage
A18: Seth Burton | B18: 95 | C18: =B18/B25 -> 0.028290649
A19: Dale Shelton Deas Jr. | B19: 43 | C19: =B19/B25 -> 0.012805241
A20: Jared Hudson | B20: 733 | C20: =B20/B25 -> 0.21828469
A21: Steve Marshall | B21: 1016 | C21: =B21/B25 -> 0.30256105
A22: Barry Moore | B22: 1259 | C22: =B22/B25 -> 0.37492555
A23: Morgan Murphy | B23: 35 | C23: =B23/B25 -> 0.010422871
A24: Rodney Walker | B24: 177 | C24: =B24/B25 -> 0.052709946
A25: Total | B25: =SUM(B18:B24) -> 3358 | C25: =SUM(C18:C24) -> 1
A27: Attorney General | B27: Votes | C27: Percentage
A28: Pamela L. Casey | B28: 706 | C28: =B28/B31 -> 0.21973234
A29: Jay Mitchell | B29: 1232 | C29: =B29/B31 -> 0.38344227
A30: Katherine Robertson | B30: 1275 | C30: =B30/B31 -> 0.3968254
A31: Total | B31: =SUM(B28:B30) -> 3213 | C31: =SUM(C28:C30) -> 1
A33: Secretary of State | B33: Votes | C33: Percentage
A34: Caroleene Dobson | B34: 1694 | C34: =B34/B37 -> 0.56372712
A35: Christopher Christian Horn | B35: 801 | C35: =B35/B37 -> 0.26655574
A36: Glenda S. Jackson | B36: 510 | C36: =B36/B37 -> 0.16971714
A37: Total | B37: =SUM(B34:B36) -> 3005 | C37: =SUM(C34:C36) -> 1
A39: Treasurer | B39: Votes | C39: Percentage
A40: Young Boozer | B40: 2063 | C40: =B40/B42 -> 0.66441224
A41: Steve Lolley | B41: 1042 | C41: =B41/B42 -> 0.33558776
A42: Total | B42: =SUM(B39:B41) -> 3105 | C42: =SUM(C39:C41) -> 1
A44: Auditor | B44: Votes | C44: Percentage
A45: Derek Chen | B45: 1001 | C45: =B45/B47 -> 0.31960409
A46: Andrew Sorrell | B46: 2131 | C46: =B46/B47 -> 0.68039591
...

Sheet Chilton
A1: Govenor | B1: Votes | C1: Percentage
A2: Ken McFeeters | B2: 341 | C2: =B2/B5 -> 0.055429129
A3: "Alabama" Will Santivasci | B3: 234 | C3: =B3/B5 -> 0.038036411
A4: Thomas Tuberville | B4: 5577 | C4: =B4/B5 -> 0.90653446
A5: Total | B5: =SUM(B2:B4) -> 6152 | C5: =SUM(C2:C4) -> 1
A7: Lt. Govenor | B7: Votes | C7: Percentage
A8: Wes Allen | B8: 2824 | C8: =B8/B15 -> 0.48240519
A9: Pat Bishop | B9: 164 | C9: =B9/B15 -> 0.028015032
A10: George Childress | B10: 98 | C10: =B10/B15 -> 0.01674069
A11: Rick Pate | B11: 461 | C11: =B11/B15 -> 0.078749573
A12: Stewart Hill Tankersley | B12: 83 | C12: =B12/B15 -> 0.01417834
A13: Nicole Jones Wadsworth | B13: 251 | C13: =B13/B15 -> 0.042876666
A14: John Wahl | B14: 1973 | C14: =B14/B15 -> 0.33703451
A15: Total | B15: =SUM(B8:B14) -> 5854 | C15: =SUM(C8:C14) -> 1
A17: Senator | B17: Votes | C17: Percentage
A18: Seth Burton | B18: 95 | C18: =B18/B25 -> 0.015870364
A19: Dale Shelton Deas Jr. | B19: 98 | C19: =B19/B25 -> 0.016371534
A20: Jared Hudson | B20: 1903 | C20: =B20/B25 -> 0.31790845
A21: Steve Marshall | B21: 1931 | C21: =B21/B25 -> 0.32258603
A22: Barry Moore | B22: 1753 | C22: =B22/B25 -> 0.29284998
A23: Morgan Murphy | B23: 60 | C23: =B23/B25 -> 0.010023388
A24: Rodney Walker | B24: 146 | C24: =B24/B25 -> 0.024390244
A25: Total | B25: =SUM(B18:B24) -> 5986 | C25: =SUM(C18:C24) -> 1
A27: Attorney General | B27: Votes | C27: Percentage
A28: Pamela L. Casey | B28: 1301 | C28: =B28/B31 -> 0.22508651
A29: Jay Mitchell | B29: 1876 | C29: =B29/B31 -> 0.32456747
A30: Katherine Robertson | B30: 2603 | C30: =B30/B31 -> 0.45034602
A31: Total | B31: =SUM(B28:B30) -> 5780 | C31: =SUM(C28:C30) -> 1
A33: Secretary of State | B33: Votes | C33: Percentage
A34: Caroleene Dobson | B34: 3413 | C34: =B34/B37 -> 0.6350949
A35: Christopher Christian Horn | B35: 1228 | C35: =B35/B37 -> 0.22850763
A36: Glenda S. Jackson | B36: 733 | C36: =B36/B37 -> 0.13639747
A37: Total | B37: =SUM(B34:B36) -> 5374 | C37: =SUM(C34:C36) -> 1
A39: Treasurer | B39: Votes | C39: Percentage
A40: Young Boozer | B40: 3946 | C40: =B40/B42 -> 0.70276046
A41: Steve Lolley | B41: 1669 | C41: =B41/B42 -> 0.29723954
A42: Total | B42: =SUM(B39:B41) -> 5615 | C42: =SUM(C39:C41) -> 1
A44: Auditor | B44: Votes | C44: Percentage
A45: Derek Chen | B45: 1813 | C45: =B45/B47 -> 0.32660782
A46: Andrew Sorrell | B46: 3738 | C46: =B46/B47 -> 0.67339218
...

Sheet Choctaw
A1: Govenor | B1: Votes | C1: Percentage
A2: Ken McFeeters | B2: 77 | C2: =B2/B5 -> 0.044482958
A3: "Alabama" Will Santivasci | B3: 57 | C3: =B3/B5 -> 0.032928943
A4: Thomas Tuberville | B4: 1597 | C4: =B4/B5 -> 0.9225881
A5: Total | B5: =SUM(B2:B4) -> 1731 | C5: =SUM(C2:C4) -> 1
A7: Lt. Govenor | B7: Votes | C7: Percentage
A8: Wes Allen | B8: 670 | C8: =B8/B15 -> 0.40556901
A9: Pat Bishop | B9: 59 | C9: =B9/B15 -> 0.035714286
A10: George Childress | B10: 37 | C10: =B10/B15 -> 0.022397094
A11: Rick Pate | B11: 95 | C11: =B11/B15 -> 0.057506053
A12: Stewart Hill Tankersley | B12: 16 | C12: =B12/B15 -> 0.00968523
A13: Nicole Jones Wadsworth | B13: 35 | C13: =B13/B15 -> 0.021186441
A14: John Wahl | B14: 740 | C14: =B14/B15 -> 0.44794189
A15: Total | B15: =SUM(B8:B14) -> 1652 | C15: =SUM(C8:C14) -> 1
A17: Senator | B17: Votes | C17: Percentage
A18: Seth Burton | B18: 62 | C18: =B18/B25 -> 0.03834261
A19: Dale Shelton Deas Jr. | B19: 38 | C19: =B19/B25 -> 0.023500309
A20: Jared Hudson | B20: 226 | C20: =B20/B25 -> 0.139765
A21: Steve Marshall | B21: 293 | C21: =B21/B25 -> 0.18119975
A22: Barry Moore | B22: 908 | C22: =B22/B25 -> 0.5615337
A23: Morgan Murphy | B23: 26 | C23: =B23/B25 -> 0.016079159
A24: Rodney Walker | B24: 64 | C24: =B24/B25 -> 0.039579468
A25: Total | B25: =SUM(B18:B24) -> 1617 | C25: =SUM(C18:C24) -> 1
A27: Attorney General | B27: Votes | C27: Percentage
A28: Pamela L. Casey | B28: 544 | C28: =B28/B31 -> 0.33894081
A29: Jay Mitchell | B29: 700 | C29: =B29/B31 -> 0.43613707
A30: Katherine Robertson | B30: 361 | C30: =B30/B31 -> 0.22492212
A31: Total | B31: =SUM(B28:B30) -> 1605 | C31: =SUM(C28:C30) -> 1
A33: Secretary of State | B33: Votes | C33: Percentage
A34: Caroleene Dobson | B34: 943 | C34: =B34/B37 -> 0.63501684
A35: Christopher Christian Horn | B35: 343 | C35: =B35/B37 -> 0.23097643
A36: Glenda S. Jackson | B36: 199 | C36: =B36/B37 -> 0.13400673
A37: Total | B37: =SUM(B34:B36) -> 1485 | C37: =SUM(C34:C36) -> 1
A39: Treasurer | B39: Votes | C39: Percentage
A40: Young Boozer | B40: 1043 | C40: =B40/B42 -> 0.6777128
A41: Steve Lolley | B41: 496 | C41: =B41/B42 -> 0.3222872
A42: Total | B42: =SUM(B39:B41) -> 1539 | C42: =SUM(C39:C41) -> 1
A44: Auditor | B44: Votes | C44: Percentage
A45: Derek Chen | B45: 289 | C45: =B45/B47 -> 0.19369973
A46: Andrew Sorrell | B46: 1203 | C46: =B46/B47 -> 0.80630027
...

Sheet Clarke
A1: Govenor | B1: Votes | C1: Percentage
A2: Ken McFeeters | B2: 115 | C2: =B2/B5 -> 0.051043054
A3: "Alabama" Will Santivasci | B3: 76 | C3: =B3/B5 -> 0.033732801
A4: Thomas Tuberville | B4: 2062 | C4: =B4/B5 -> 0.91522415
A5: Total | B5: =SUM(B2:B4) -> 2253 | C5: =SUM(C2:C4) -> 1
A7: Lt. Govenor | B7: Votes | C7: Percentage
A8: Wes Allen | B8: 913 | C8: =B8/B15 -> 0.42248959
A9: Pat Bishop | B9: 59 | C9: =B9/B15 -> 0.027302175
A10: George Childress | B10: 32 | C10: =B10/B15 -> 0.014807959
A11: Rick Pate | B11: 111 | C11: =B11/B15 -> 0.051365109
A12: Stewart Hill Tankersley | B12: 13 | C12: =B12/B15 -> 0.0060157335
A13: Nicole Jones Wadsworth | B13: 69 | C13: =B13/B15 -> 0.031929662
A14: John Wahl | B14: 964 | C14: =B14/B15 -> 0.44608977
A15: Total | B15: =SUM(B8:B14) -> 2161 | C15: =SUM(C8:C14) -> 1
A17: Senator | B17: Votes | C17: Percentage
A18: Seth Burton | B18: 44 | C18: =B18/B25 -> 0.02
A19: Dale Shelton Deas Jr. | B19: 64 | C19: =B19/B25 -> 0.029090909
A20: Jared Hudson | B20: 805 | C20: =B20/B25 -> 0.36590909
A21: Steve Marshall | B21: 418 | C21: =B21/B25 -> 0.19
A22: Barry Moore | B22: 781 | C22: =B22/B25 -> 0.355
A23: Morgan Murphy | B23: 16 | C23: =B23/B25 -> 0.0072727273
A24: Rodney Walker | B24: 72 | C24: =B24/B25 -> 0.032727273
A25: Total | B25: =SUM(B18:B24) -> 2200 | C25: =SUM(C18:C24) -> 1
A27: Attorney General | B27: Votes | C27: Percentage
A28: Pamela L. Casey | B28: 444 | C28: =B28/B31 -> 0.2095328
A29: Jay Mitchell | B29: 680 | C29: =B29/B31 -> 0.32090609
A30: Katherine Robertson | B30: 995 | C30: =B30/B31 -> 0.46956111
A31: Total | B31: =SUM(B28:B30) -> 2119 | C31: =SUM(C28:C30) -> 1
A33: Secretary of State | B33: Votes | C33: Percentage
A34: Caroleene Dobson | B34: 1609 | C34: =B34/B37 -> 0.78641251
A35: Christopher Christian Horn | B35: 262 | C35: =B35/B37 -> 0.12805474
A36: Glenda S. Jackson | B36: 175 | C36: =B36/B37 -> 0.085532747
A37: Total | B37: =SUM(B34:B36) -> 2046 | C37: =SUM(C34:C36) -> 1
A39: Treasurer | B39: Votes | C39: Percentage
A40: Young Boozer | B40: 1410 | C40: =B40/B42 -> 0.68746953
A41: Steve Lolley | B41: 641 | C41: =B41/B42 -> 0.31253047
A42: Total | B42: =SUM(B39:B41) -> 2051 | C42: =SUM(C39:C41) -> 1
A44: Auditor | B44: Votes | C44: Percentage
A45: Derek Chen | B45: 692 | C45: =B45/B47 -> 0.34617309
A46: Andrew Sorrell | B46: 1307 | C46: =B46/B47 -> 0.65382691
...

Sheet Clay
A1: Govenor | B1: Votes | C1: Percentage
A2: Ken McFeeters | B2: 123 | C2: =B2/B5 -> 0.057235924
A3: "Alabama" Will Santivasci | B3: 96 | C3: =B3/B5 -> 0.04467194
A4: Thomas Tuberville | B4: 1930 | C4: =B4/B5 -> 0.89809214
A5: Total | B5: =SUM(B2:B4) -> 2149 | C5: =SUM(C2:C4) -> 1
A7: Lt. Govenor | B7: Votes | C7: Percentage
A8: Wes Allen | B8: 840 | C8: =B8/B15 -> 0.40935673
A9: Pat Bishop | B9: 44 | C9: =B9/B15 -> 0.021442495
A10: George Childress | B10: 45 | C10: =B10/B15 -> 0.021929825
A11: Rick Pate | B11: 180 | C11: =B11/B15 -> 0.087719298
A12: Stewart Hill Tankersley | B12: 29 | C12: =B12/B15 -> 0.014132554
A13: Nicole Jones Wadsworth | B13: 61 | C13: =B13/B15 -> 0.029727096
A14: John Wahl | B14: 853 | C14: =B14/B15 -> 0.41569201
A15: Total | B15: =SUM(B8:B14) -> 2052 | C15: =SUM(C8:C14) -> 1
A17: Senator | B17: Votes | C17: Percentage
A18: Seth Burton | B18: 28 | C18: =B18/B25 -> 0.013084112
A19: Dale Shelton Deas Jr. | B19: 27 | C19: =B19/B25 -> 0.012616822
A20: Jared Hudson | B20: 494 | C20: =B20/B25 -> 0.23084112
A21: Steve Marshall | B21: 584 | C21: =B21/B25 -> 0.2728972
A22: Barry Moore | B22: 527 | C22: =B22/B25 -> 0.24626168
A23: Morgan Murphy | B23: 19 | C23: =B23/B25 -> 0.0088785047
A24: Rodney Walker | B24: 461 | C24: =B24/B25 -> 0.21542056
A25: Total | B25: =SUM(B18:B24) -> 2140 | C25: =SUM(C18:C24) -> 1
A27: Attorney General | B27: Votes | C27: Percentage
A28: Pamela L. Casey | B28: 422 | C28: =B28/B31 -> 0.20849802
A29: Jay Mitchell | B29: 683 | C29: =B29/B31 -> 0.33745059
A30: Katherine Robertson | B30: 919 | C30: =B30/B31 -> 0.45405138
A31: Total | B31: =SUM(B28:B30) -> 2024 | C31: =SUM(C28:C30) -> 1
A33: Secretary of State | B33: Votes | C33: Percentage
A34: Caroleene Dobson | B34: 1161 | C34: =B34/B37 -> 0.6046875
A35: Christopher Christian Horn | B35: 528 | C35: =B35/B37 -> 0.275
A36: Glenda S. Jackson | B36: 231 | C36: =B36/B37 -> 0.1203125
A37: Total | B37: =SUM(B34:B36) -> 1920 | C37: =SUM(C34:C36) -> 1
A39: Treasurer | B39: Votes | C39: Percentage
A40: Young Boozer | B40: 1332 | C40: =B40/B42 -> 0.68237705
A41: Steve Lolley | B41: 620 | C41: =B41/B42 -> 0.31762295
A42: Total | B42: =SUM(B39:B41) -> 1952 | C42: =SUM(C39:C41) -> 1
A44: Auditor | B44: Votes | C44: Percentage
A45: Derek Chen | B45: 629 | C45: =B45/B47 -> 0.32108218
A46: Andrew Sorrell | B46: 1330 | C46: =B46/B47 -> 0.67891782
...

Sheet Cleburne
A1: Govenor | B1: Votes | C1: Percentage
A2: Ken McFeeters | B2: 288 | C2: =B2/B5 -> 0.089831566
A3: "Alabama" Will Santivasci | B3: 278 | C3: =B3/B5 -> 0.086712414
A4: Thomas Tuberville | B4: 2640 | C4: =B4/B5 -> 0.82345602
A5: Total | B5: =SUM(B2:B4) -> 3206 | C5: =SUM(C2:C4) -> 1
A7: Lt. Govenor | B7: Votes | C7: Percentage
A8: Wes Allen | B8: 1011 | C8: =B8/B15 -> 0.34329372
A9: Pat Bishop | B9: 120 | C9: =B9/B15 -> 0.040747029
A10: George Childress | B10: 98 | C10: =B10/B15 -> 0.03327674
A11: Rick Pate | B11: 284 | C11: =B11/B15 -> 0.096434635
A12: Stewart Hill Tankersley | B12: 58 | C12: =B12/B15 -> 0.019694397
A13: Nicole Jones Wadsworth | B13: 123 | C13: =B13/B15 -> 0.041765705
A14: John Wahl | B14: 1251 | C14: =B14/B15 -> 0.42478778
A15: Total | B15: =SUM(B8:B14) -> 2945 | C15: =SUM(C8:C14) -> 1
A17: Senator | B17: Votes | C17: Percentage
A18: Seth Burton | B18: 96 | C18: =B18/B25 -> 0.032053422
A19: Dale Shelton Deas Jr. | B19: 66 | C19: =B19/B25 -> 0.022036728
A20: Jared Hudson | B20: 587 | C20: =B20/B25 -> 0.19599332
A21: Steve Marshall | B21: 573 | C21: =B21/B25 -> 0.19131886
A22: Barry Moore | B22: 859 | C22: =B22/B25 -> 0.28681135
A23: Morgan Murphy | B23: 68 | C23: =B23/B25 -> 0.022704508
A24: Rodney Walker | B24: 746 | C24: =B24/B25 -> 0.2490818
A25: Total | B25: =SUM(B18:B24) -> 2995 | C25: =SUM(C18:C24) -> 1
A27: Attorney General | B27: Votes | C27: Percentage
A28: Pamela L. Casey | B28: 795 | C28: =B28/B31 -> 0.27865405
A29: Jay Mitchell | B29: 1148 | C29: =B29/B31 -> 0.40238346
A30: Katherine Robertson | B30: 910 | C30: =B30/B31 -> 0.3189625
A31: Total | B31: =SUM(B28:B30) -> 2853 | C31: =SUM(C28:C30) -> 1
A33: Secretary of State | B33: Votes | C33: Percentage
A34: Caroleene Dobson | B34: 1172 | C34: =B34/B37 -> 0.44393939
A35: Christopher Christian Horn | B35: 813 | C35: =B35/B37 -> 0.30795455
A36: Glenda S. Jackson | B36: 655 | C36: =B36/B37 -> 0.24810606
A37: Total | B37: =SUM(B34:B36) -> 2640 | C37: =SUM(C34:C36) -> 1
A39: Treasurer | B39: Votes | C39: Percentage
A40: Young Boozer | B40: 1726 | C40: =B40/B42 -> 0.63643068
A41: Steve Lolley | B41: 986 | C41: =B41/B42 -> 0.36356932
A42: Total | B42: =SUM(B39:B41) -> 2712 | C42: =SUM(C39:C41) -> 1
A44: Auditor | B44: Votes | C44: Percentage
A45: Derek Chen | B45: 685 | C45: =B45/B47 -> 0.25
A46: Andrew Sorrell | B46: 2055 | C46: =B46/B47 -> 0.75
...

Sheet Coffee
A1: Govenor | B1: Votes | C1: Percentage
A2: Ken McFeeters | B2: 500 | C2: =B2/B5 -> 0.075426158
A3: "Alabama" Will Santivasci | B3: 278 | C3: =B3/B5 -> 0.041936944
A4: Thomas Tuberville | B4: 5851 | C4: =B4/B5 -> 0.8826369
A5: Total | B5: =SUM(B2:B4) -> 6629 | C5: =SUM(C2:C4) -> 1
A7: Lt. Govenor | B7: Votes | C7: Percentage
A8: Wes Allen | B8: 2684 | C8: =B8/B15 -> 0.41885144
A9: Pat Bishop | B9: 166 | C9: =B9/B15 -> 0.025905119
A10: George Childress | B10: 125 | C10: =B10/B15 -> 0.019506866
A11: Rick Pate | B11: 358 | C11: =B11/B15 -> 0.055867665
A12: Stewart Hill Tankersley | B12: 211 | C12: =B12/B15 -> 0.032927591
A13: Nicole Jones Wadsworth | B13: 280 | C13: =B13/B15 -> 0.043695381
A14: John Wahl | B14: 2584 | C14: =B14/B15 -> 0.40324594
A15: Total | B15: =SUM(B8:B14) -> 6408 | C15: =SUM(C8:C14) -> 1
A17: Senator | B17: Votes | C17: Percentage
A18: Seth Burton | B18: 134 | C18: =B18/B25 -> 0.019961269
A19: Dale Shelton Deas Jr. | B19: 61 | C19: =B19/B25 -> 0.0090868464
A20: Jared Hudson | B20: 769 | C20: =B20/B25 -> 0.11455385
A21: Steve Marshall | B21: 543 | C21: =B21/B25 -> 0.08088783
A22: Barry Moore | B22: 5046 | C22: =B22/B25 -> 0.75167585
A23: Morgan Murphy | B23: 38 | C23: =B23/B25 -> 0.0056606584
A24: Rodney Walker | B24: 122 | C24: =B24/B25 -> 0.018173693
A25: Total | B25: =SUM(B18:B24) -> 6713 | C25: =SUM(C18:C24) -> 1
A27: Attorney General | B27: Votes | C27: Percentage
A28: Pamela L. Casey | B28: 2000 | C28: =B28/B31 -> 0.31994881
A29: Jay Mitchell | B29: 2348 | C29: =B29/B31 -> 0.3756199
A30: Katherine Robertson | B30: 1903 | C30: =B30/B31 -> 0.30443129
A31: Total | B31: =SUM(B28:B30) -> 6251 | C31: =SUM(C28:C30) -> 1
A33: Secretary of State | B33: Votes | C33: Percentage
A34: Caroleene Dobson | B34: 3335 | C34: =B34/B37 -> 0.57869165
A35: Christopher Christian Horn | B35: 1610 | C35: =B35/B37 -> 0.27936838
A36: Glenda S. Jackson | B36: 818 | C36: =B36/B37 -> 0.14193996
A37: Total | B37: =SUM(B34:B36) -> 5763 | C37: =SUM(C34:C36) -> 1
A39: Treasurer | B39: Votes | C39: Percentage
A40: Young Boozer | B40: 4050 | C40: =B40/B42 -> 0.66557108
A41: Steve Lolley | B41: 2035 | C41: =B41/B42 -> 0.33442892
A42: Total | B42: =SUM(B39:B41) -> 6085 | C42: =SUM(C39:C41) -> 1
A44: Auditor | B44: Votes | C44: Percentage
A45: Derek Chen | B45: 1542 | C45: =B45/B47 -> 0.26012146
A46: Andrew Sorrell | B46: 4386 | C46: =B46/B47 -> 0.73987854
...

Sheet Colbert
A1: Govenor | B1: Votes | C1: Percentage
A2: Ken McFeeters | B2: 441 | C2: =B2/B5 -> 0.089579525
A3: "Alabama" Will Santivasci | B3: 226 | C3: =B3/B5 -> 0.045906967
A4: Thomas Tuberville | B4: 4256 | C4: =B4/B5 -> 0.86451351
A5: Total | B5: =SUM(B2:B4) -> 4923 | C5: =SUM(C2:C4) -> 1
A7: Lt. Govenor | B7: Votes | C7: Percentage
A8: Wes Allen | B8: 1704 | C8: =B8/B15 -> 0.35141266
A9: Pat Bishop | B9: 110 | C9: =B9/B15 -> 0.02268509
A10: George Childress | B10: 49 | C10: =B10/B15 -> 0.010105176
A11: Rick Pate | B11: 236 | C11: =B11/B15 -> 0.048669829
A12: Stewart Hill Tankersley | B12: 86 | C12: =B12/B15 -> 0.017735616
A13: Nicole Jones Wadsworth | B13: 222 | C13: =B13/B15 -> 0.045782636
A14: John Wahl | B14: 2442 | C14: =B14/B15 -> 0.50360899
A15: Total | B15: =SUM(B8:B14) -> 4849 | C15: =SUM(C8:C14) -> 1
A17: Senator | B17: Votes | C17: Percentage
A18: Seth Burton | B18: 129 | C18: =B18/B25 -> 0.026774595
A19: Dale Shelton Deas Jr. | B19: 64 | C19: =B19/B25 -> 0.01328352
A20: Jared Hudson | B20: 1172 | C20: =B20/B25 -> 0.24325446
A21: Steve Marshall | B21: 1099 | C21: =B21/B25 -> 0.22810295
A22: Barry Moore | B22: 2065 | C22: =B22/B25 -> 0.42860108
A23: Morgan Murphy | B23: 67 | C23: =B23/B25 -> 0.013906185
A24: Rodney Walker | B24: 222 | C24: =B24/B25 -> 0.04607721
A25: Total | B25: =SUM(B18:B24) -> 4818 | C25: =SUM(C18:C24) -> 1
A27: Attorney General | B27: Votes | C27: Percentage
A28: Pamela L. Casey | B28: 1062 | C28: =B28/B31 -> 0.22779923
A29: Jay Mitchell | B29: 1894 | C29: =B29/B31 -> 0.40626341
A30: Katherine Robertson | B30: 1706 | C30: =B30/B31 -> 0.36593737
A31: Total | B31: =SUM(B28:B30) -> 4662 | C31: =SUM(C28:C30) -> 1
A33: Secretary of State | B33: Votes | C33: Percentage
A34: Caroleene Dobson | B34: 2973 | C34: =B34/B37 -> 0.66884139
A35: Christopher Christian Horn | B35: 1009 | C35: =B35/B37 -> 0.22699663
A36: Glenda S. Jackson | B36: 463 | C36: =B36/B37 -> 0.10416198
A37: Total | B37: =SUM(B34:B36) -> 4445 | C37: =SUM(C34:C36) -> 1
A39: Treasurer | B39: Votes | C39: Percentage
A40: Young Boozer | B40: 2716 | C40: =B40/B42 -> 0.59982332
A41: Steve Lolley | B41: 1812 | C41: =B41/B42 -> 0.40017668
A42: Total | B42: =SUM(B39:B41) -> 4528 | C42: =SUM(C39:C41) -> 1
A44: Auditor | B44: Votes | C44: Percentage
A45: Derek Chen | B45: 998 | C45: =B45/B47 -> 0.20835073
A46: Andrew Sorrell | B46: 3792 | C46: =B46/B47 -> 0.79164927
...

Sheet Conecuh
A1: Govenor | B1: Votes | C1: Percentage
A2: Ken McFeeters | B2: 83 | C2: =B2/B5 -> 0.052832591
A3: "Alabama" Will Santivasci | B3: 60 | C3: =B3/B5 -> 0.038192234
A4: Thomas Tuberville | B4: 1428 | C4: =B4/B5 -> 0.90897518
A5: Total | B5: =SUM(B2:B4) -> 1571 | C5: =SUM(C2:C4) -> 1
A7: Lt. Govenor | B7: Votes | C7: Percentage
A8: Wes Allen | B8: 515 | C8: =B8/B15 -> 0.35105658
A9: Pat Bishop | B9: 78 | C9: =B9/B15 -> 0.053169734
A10: George Childress | B10: 38 | C10: =B10/B15 -> 0.025903204
A11: Rick Pate | B11: 153 | C11: =B11/B15 -> 0.10429448
A12: Stewart Hill Tankersley | B12: 19 | C12: =B12/B15 -> 0.012951602
A13: Nicole Jones Wadsworth | B13: 55 | C13: =B13/B15 -> 0.037491479
A14: John Wahl | B14: 609 | C14: =B14/B15 -> 0.41513292
A15: Total | B15: =SUM(B8:B14) -> 1467 | C15: =SUM(C8:C14) -> 1
A17: Senator | B17: Votes | C17: Percentage
A18: Seth Burton | B18: 53 | C18: =B18/B25 -> 0.036054422
A19: Dale Shelton Deas Jr. | B19: 33 | C19: =B19/B25 -> 0.02244898
A20: Jared Hudson | B20: 249 | C20: =B20/B25 -> 0.16938776
A21: Steve Marshall | B21: 345 | C21: =B21/B25 -> 0.23469388
A22: Barry Moore | B22: 654 | C22: =B22/B25 -> 0.44489796
A23: Morgan Murphy | B23: 22 | C23: =B23/B25 -> 0.014965986
A24: Rodney Walker | B24: 114 | C24: =B24/B25 -> 0.07755102
A25: Total | B25: =SUM(B18:B24) -> 1470 | C25: =SUM(C18:C24) -> 1
A27: Attorney General | B27: Votes | C27: Percentage
A28: Pamela L. Casey | B28: 496 | C28: =B28/B31 -> 0.34929577
A29: Jay Mitchell | B29: 362 | C29: =B29/B31 -> 0.25492958
A30: Katherine Robertson | B30: 562 | C30: =B30/B31 -> 0.39577465
A31: Total | B31: =SUM(B28:B30) -> 1420 | C31: =SUM(C28:C30) -> 1
A33: Secretary of State | B33: Votes | C33: Percentage
A34: Caroleene Dobson | B34: 1217 | C34: =B34/B37 -> 0.83470508
A35: Christopher Christian Horn | B35: 163 | C35: =B35/B37 -> 0.11179698
A36: Glenda S. Jackson | B36: 78 | C36: =B36/B37 -> 0.053497942
A37: Total | B37: =SUM(B34:B36) -> 1458 | C37: =SUM(C34:C36) -> 1
A39: Treasurer | B39: Votes | C39: Percentage
A40: Young Boozer | B40: 967 | C40: =B40/B42 -> 0.69318996
A41: Steve Lolley | B41: 428 | C41: =B41/B42 -> 0.30681004
A42: Total | B42: =SUM(B39:B41) -> 1395 | C42: =SUM(C39:C41) -> 1
A44: Auditor | B44: Votes | C44: Percentage
A45: Derek Chen | B45: 564 | C45: =B45/B47 -> 0.41777778
A46: Andrew Sorrell | B46: 786 | C46: =B46/B47 -> 0.58222222
...

Sheet Coosa
A1: Govenor | B1: Votes | C1: Percentage
A2: Ken McFeeters | B2: 75 | C2: =B2/B5 -> 0.049668874
A3: "Alabama" Will Santivasci | B3: 54 | C3: =B3/B5 -> 0.035761589
A4: Thomas Tuberville | B4: 1381 | C4: =B4/B5 -> 0.91456954
A5: Total | B5: =SUM(B2:B4) -> 1510 | C5: =SUM(C2:C4) -> 1
A7: Lt. Govenor | B7: Votes | C7: Percentage
A8: Wes Allen | B8: 515 | C8: =B8/B15 -> 0.35249829
A9: Pat Bishop | B9: 75 | C9: =B9/B15 -> 0.051334702
A10: George Childress | B10: 28 | C10: =B10/B15 -> 0.019164956
A11: Rick Pate | B11: 117 | C11: =B11/B15 -> 0.080082136
A12: Stewart Hill Tankersley | B12: 44 | C12: =B12/B15 -> 0.030116359
A13: Nicole Jones Wadsworth | B13: 71 | C13: =B13/B15 -> 0.048596851
A14: John Wahl | B14: 611 | C14: =B14/B15 -> 0.41820671
A15: Total | B15: =SUM(B8:B14) -> 1461 | C15: =SUM(C8:C14) -> 1
A17: Senator | B17: Votes | C17: Percentage
A18: Seth Burton | B18: 57 | C18: =B18/B25 -> 0.038306452
A19: Dale Shelton Deas Jr. | B19: 13 | C19: =B19/B25 -> 0.0087365591
A20: Jared Hudson | B20: 387 | C20: =B20/B25 -> 0.26008065
A21: Steve Marshall | B21: 386 | C21: =B21/B25 -> 0.2594086
A22: Barry Moore | B22: 528 | C22: =B22/B25 -> 0.35483871
A23: Morgan Murphy | B23: 13 | C23: =B23/B25 -> 0.0087365591
A24: Rodney Walker | B24: 104 | C24: =B24/B25 -> 0.069892473
A25: Total | B25: =SUM(B18:B24) -> 1488 | C25: =SUM(C18:C24) -> 1
A27: Attorney General | B27: Votes | C27: Percentage
A28: Pamela L. Casey | B28: 417 | C28: =B28/B31 -> 0.28699243
A29: Jay Mitchell | B29: 523 | C29: =B29/B31 -> 0.35994494
A30: Katherine Robertson | B30: 513 | C30: =B30/B31 -> 0.35306263
A31: Total | B31: =SUM(B28:B30) -> 1453 | C31: =SUM(C28:C30) -> 1
A33: Secretary of State | B33: Votes | C33: Percentage
A34: Caroleene Dobson | B34: 920 | C34: =B34/B37 -> 0.66957787
A35: Christopher Christian Horn | B35: 288 | C35: =B35/B37 -> 0.20960699
A36: Glenda S. Jackson | B36: 166 | C36: =B36/B37 -> 0.12081514
A37: Total | B37: =SUM(B34:B36) -> 1374 | C37: =SUM(C34:C36) -> 1
A39: Treasurer | B39: Votes | C39: Percentage
A40: Young Boozer | B40: 993 | C40: =B40/B42 -> 0.7037562
A41: Steve Lolley | B41: 418 | C41: =B41/B42 -> 0.2962438
A42: Total | B42: =SUM(B39:B41) -> 1411 | C42: =SUM(C39:C41) -> 1
A44: Auditor | B44: Votes | C44: Percentage
A45: Derek Chen | B45: 439 | C45: =B45/B47 -> 0.31178977
A46: Andrew Sorrell | B46: 969 | C46: =B46/B47 -> 0.68821023
...

Sheet Covington
A1: Govenor | B1: Votes | C1: Percentage
A2: Ken McFeeters | B2: 441 | C2: =B2/B5 -> 0.076165803
A3: "Alabama" Will Santivasci | B3: 245 | C3: =B3/B5 -> 0.042314335
A4: Thomas Tuberville | B4: 5104 | C4: =B4/B5 -> 0.88151986
A5: Total | B5: =SUM(B2:B4) -> 5790 | C5: =SUM(C2:C4) -> 1
A7: Lt. Govenor | B7: Votes | C7: Percentage
A8: Wes Allen | B8: 2764 | C8: =B8/B15 -> 0.51062258
A9: Pat Bishop | B9: 144 | C9: =B9/B15 -> 0.026602623
A10: George Childress | B10: 101 | C10: =B10/B15 -> 0.018658784
A11: Rick Pate | B11: 353 | C11: =B11/B15 -> 0.065213375
A12: Stewart Hill Tankersley | B12: 87 | C12: =B12/B15 -> 0.016072418
A13: Nicole Jones Wadsworth | B13: 222 | C13: =B13/B15 -> 0.041012378
A14: John Wahl | B14: 1742 | C14: =B14/B15 -> 0.32181785
A15: Total | B15: =SUM(B8:B14) -> 5413 | C15: =SUM(C8:C14) -> 1
A17: Senator | B17: Votes | C17: Percentage
A18: Seth Burton | B18: 94 | C18: =B18/B25 -> 0.016625398
A19: Dale Shelton Deas Jr. | B19: 42 | C19: =B19/B25 -> 0.0074283693
A20: Jared Hudson | B20: 918 | C20: =B20/B25 -> 0.16236293
A21: Steve Marshall | B21: 705 | C21: =B21/B25 -> 0.12469048
A22: Barry Moore | B22: 3407 | C22: =B22/B25 -> 0.60258224
A23: Morgan Murphy | B23: 53 | C23: =B23/B25 -> 0.0093738946
A24: Rodney Walker | B24: 435 | C24: =B24/B25 -> 0.076936682
A25: Total | B25: =SUM(B18:B24) -> 5654 | C25: =SUM(C18:C24) -> 1
A27: Attorney General | B27: Votes | C27: Percentage
A28: Pamela L. Casey | B28: 2276 | C28: =B28/B31 -> 0.41953917
A29: Jay Mitchell | B29: 1410 | C29: =B29/B31 -> 0.25990783
A30: Katherine Robertson | B30: 1739 | C30: =B30/B31 -> 0.320553
A31: Total | B31: =SUM(B28:B30) -> 5425 | C31: =SUM(C28:C30) -> 1
A33: Secretary of State | B33: Votes | C33: Percentage
A34: Caroleene Dobson | B34: 3344 | C34: =B34/B37 -> 0.67541911
A35: Christopher Christian Horn | B35: 962 | C35: =B35/B37 -> 0.19430418
A36: Glenda S. Jackson | B36: 645 | C36: =B36/B37 -> 0.13027671
A37: Total | B37: =SUM(B34:B36) -> 4951 | C37: =SUM(C34:C36) -> 1
A39: Treasurer | B39: Votes | C39: Percentage
A40: Young Boozer | B40: 3596 | C40: =B40/B42 -> 0.69961089
A41: Steve Lolley | B41: 1544 | C41: =B41/B42 -> 0.30038911
A42: Total | B42: =SUM(B39:B41) -> 5140 | C42: =SUM(C39:C41) -> 1
A44: Auditor | B44: Votes | C44: Percentage
A45: Derek Chen | B45: 1704 | C45: =B45/B47 -> 0.34209998
A46: Andrew Sorrell | B46: 3277 | C46: =B46/B47 -> 0.65790002
...

Sheet Crenshaw
A1: Govenor | B1: Votes | C1: Percentage
A2: Ken McFeeters | B2: 119 | C2: =B2/B5 -> 0.046666667
A3: "Alabama" Will Santivasci | B3: 105 | C3: =B3/B5 -> 0.041176471
A4: Thomas Tuberville | B4: 2326 | C4: =B4/B5 -> 0.91215686
A5: Total | B5: =SUM(B2:B4) -> 2550 | C5: =SUM(C2:C4) -> 1
A7: Lt. Govenor | B7: Votes | C7: Percentage
A8: Wes Allen | B8: 1439 | C8: =B8/B15 -> 0.58472166
A9: Pat Bishop | B9: 53 | C9: =B9/B15 -> 0.021535961
A10: George Childress | B10: 31 | C10: =B10/B15 -> 0.012596505
A11: Rick Pate | B11: 245 | C11: =B11/B15 -> 0.099553027
A12: Stewart Hill Tankersley | B12: 61 | C12: =B12/B15 -> 0.024786672
A13: Nicole Jones Wadsworth | B13: 70 | C13: =B13/B15 -> 0.028443722
A14: John Wahl | B14: 562 | C14: =B14/B15 -> 0.22836245
A15: Total | B15: =SUM(B8:B14) -> 2461 | C15: =SUM(C8:C14) -> 1
A17: Senator | B17: Votes | C17: Percentage
A18: Seth Burton | B18: 34 | C18: =B18/B25 -> 0.013654618
A19: Dale Shelton Deas Jr. | B19: 17 | C19: =B19/B25 -> 0.0068273092
A20: Jared Hudson | B20: 318 | C20: =B20/B25 -> 0.12771084
A21: Steve Marshall | B21: 587 | C21: =B21/B25 -> 0.23574297
A22: Barry Moore | B22: 1431 | C22: =B22/B25 -> 0.5746988
A23: Morgan Murphy | B23: 18 | C23: =B23/B25 -> 0.0072289157
A24: Rodney Walker | B24: 85 | C24: =B24/B25 -> 0.034136546
A25: Total | B25: =SUM(B18:B24) -> 2490 | C25: =SUM(C18:C24) -> 1
A27: Attorney General | B27: Votes | C27: Percentage
A28: Pamela L. Casey | B28: 524 | C28: =B28/B31 -> 0.21679768
A29: Jay Mitchell | B29: 879 | C29: =B29/B31 -> 0.36367398
A30: Katherine Robertson | B30: 1014 | C30: =B30/B31 -> 0.41952834
A31: Total | B31: =SUM(B28:B30) -> 2417 | C31: =SUM(C28:C30) -> 1
A33: Secretary of State | B33: Votes | C33: Percentage
A34: Caroleene Dobson | B34: 1892 | C34: =B34/B37 -> 0.80958494
A35: Christopher Christian Horn | B35: 299 | C35: =B35/B37 -> 0.12794181
A36: Glenda S. Jackson | B36: 146 | C36: =B36/B37 -> 0.062473256
A37: Total | B37: =SUM(B34:B36) -> 2337 | C37: =SUM(C34:C36) -> 1
A39: Treasurer | B39: Votes | C39: Percentage
A40: Young Boozer | B40: 1794 | C40: =B40/B42 -> 0.76405451
A41: Steve Lolley | B41: 554 | C41: =B41/B42 -> 0.23594549
A42: Total | B42: =SUM(B39:B41) -> 2348 | C42: =SUM(C39:C41) -> 1
A44: Auditor | B44: Votes | C44: Percentage
A45: Derek Chen | B45: 811 | C45: =B45/B47 -> 0.35445804
A46: Andrew Sorrell | B46: 1477 | C46: =B46/B47 -> 0.64554196
...

Sheet Cullman
A1: Govenor | B1: Votes | C1: Percentage
A2: Ken McFeeters | B2: 1170 | C2: =B2/B5 -> 0.07676158
A3: "Alabama" Will Santivasci | B3: 638 | C3: =B3/B5 -> 0.041858024
A4: Thomas Tuberville | B4: 13434 | C4: =B4/B5 -> 0.8813804
A5: Total | B5: =SUM(B2:B4) -> 15242 | C5: =SUM(C2:C4) -> 1
A7: Lt. Govenor | B7: Votes | C7: Percentage
A8: Wes Allen | B8: 5017 | C8: =B8/B15 -> 0.34561863
A9: Pat Bishop | B9: 1145 | C9: =B9/B15 -> 0.078878479
A10: George Childress | B10: 247 | C10: =B10/B15 -> 0.017015707
A11: Rick Pate | B11: 936 | C11: =B11/B15 -> 0.064480573
A12: Stewart Hill Tankersley | B12: 379 | C12: =B12/B15 -> 0.026109121
A13: Nicole Jones Wadsworth | B13: 952 | C13: =B13/B15 -> 0.065582805
A14: John Wahl | B14: 5840 | C14: =B14/B15 -> 0.40231469
A15: Total | B15: =SUM(B8:B14) -> 14516 | C15: =SUM(C8:C14) -> 1
A17: Senator | B17: Votes | C17: Percentage
A18: Seth Burton | B18: 275 | C18: =B18/B25 -> 0.018448947
A19: Dale Shelton Deas Jr. | B19: 251 | C19: =B19/B25 -> 0.016838857
A20: Jared Hudson | B20: 5665 | C20: =B20/B25 -> 0.3800483
A21: Steve Marshall | B21: 3751 | C21: =B21/B25 -> 0.25164363
A22: Barry Moore | B22: 3944 | C22: =B22/B25 -> 0.26459144
A23: Morgan Murphy | B23: 199 | C23: =B23/B25 -> 0.013350329
A24: Rodney Walker | B24: 821 | C24: =B24/B25 -> 0.055078492
A25: Total | B25: =SUM(B18:B24) -> 14906 | C25: =SUM(C18:C24) -> 1
A27: Attorney General | B27: Votes | C27: Percentage
A28: Pamela L. Casey | B28: 4279 | C28: =B28/B31 -> 0.29661722
A29: Jay Mitchell | B29: 4892 | C29: =B29/B31 -> 0.33910994
A30: Katherine Robertson | B30: 5255 | C30: =B30/B31 -> 0.36427284
A31: Total | B31: =SUM(B28:B30) -> 14426 | C31: =SUM(C28:C30) -> 1
A33: Secretary of State | B33: Votes | C33: Percentage
A34: Caroleene Dobson | B34: 8936 | C34: =B34/B37 -> 0.66330166
A35: Christopher Christian Horn | B35: 2983 | C35: =B35/B37 -> 0.22142221
A36: Glenda S. Jackson | B36: 1553 | C36: =B36/B37 -> 0.11527613
A37: Total | B37: =SUM(B34:B36) -> 13472 | C37: =SUM(C34:C36) -> 1
A39: Treasurer | B39: Votes | C39: Percentage
A40: Young Boozer | B40: 8705 | C40: =B40/B42 -> 0.64486258
A41: Steve Lolley | B41: 4794 | C41: =B41/B42 -> 0.35513742
A42: Total | B42: =SUM(B39:B41) -> 13499 | C42: =SUM(C39:C41) -> 1
A44: Auditor | B44: Votes | C44: Percentage
A45: Derek Chen | B45: 4073 | C45: =B45/B47 -> 0.30074577
A46: Andrew Sorrell | B46: 9470 | C46: =B46/B47 -> 0.69925423
...

Sheet Dale
A1: Govenor | B1: Votes | C1: Percentage
A2: Ken McFeeters | B2: 359 | C2: =B2/B5 -> 0.077470868
A3: "Alabama" Will Santivasci | B3: 222 | C3: =B3/B5 -> 0.047906776
A4: Thomas Tuberville | B4: 4053 | C4: =B4/B5 -> 0.87462236
A5: Total | B5: =SUM(B2:B4) -> 4634 | C5: =SUM(C2:C4) -> 1
A7: Lt. Govenor | B7: Votes | C7: Percentage
A8: Wes Allen | B8: 2088 | C8: =B8/B15 -> 0.45549738
A9: Pat Bishop | B9: 110 | C9: =B9/B15 -> 0.02399651
A10: George Childress | B10: 91 | C10: =B10/B15 -> 0.019851658
A11: Rick Pate | B11: 244 | C11: =B11/B15 -> 0.053228621
A12: Stewart Hill Tankersley | B12: 76 | C12: =B12/B15 -> 0.016579407
A13: Nicole Jones Wadsworth | B13: 198 | C13: =B13/B15 -> 0.043193717
A14: John Wahl | B14: 1777 | C14: =B14/B15 -> 0.38765271
A15: Total | B15: =SUM(B8:B14) -> 4584 | C15: =SUM(C8:C14) -> 1
A17: Senator | B17: Votes | C17: Percentage
A18: Seth Burton | B18: 79 | C18: =B18/B25 -> 0.016829996
A19: Dale Shelton Deas Jr. | B19: 67 | C19: =B19/B25 -> 0.014273541
A20: Jared Hudson | B20: 519 | C20: =B20/B25 -> 0.11056668
A21: Steve Marshall | B21: 777 | C21: =B21/B25 -> 0.16553046
A22: Barry Moore | B22: 3149 | C22: =B22/B25 -> 0.67085641
A23: Morgan Murphy | B23: 41 | C23: =B23/B25 -> 0.0087345548
A24: Rodney Walker | B24: 62 | C24: =B24/B25 -> 0.013208351
A25: Total | B25: =SUM(B18:B24) -> 4694 | C25: =SUM(C18:C24) -> 1
A27: Attorney General | B27: Votes | C27: Percentage
A28: Pamela L. Casey | B28: 1204 | C28: =B28/B31 -> 0.26809174
A29: Jay Mitchell | B29: 1316 | C29: =B29/B31 -> 0.29303051
A30: Katherine Robertson | B30: 1971 | C30: =B30/B31 -> 0.43887776
A31: Total | B31: =SUM(B28:B30) -> 4491 | C31: =SUM(C28:C30) -> 1
A33: Secretary of State | B33: Votes | C33: Percentage
A34: Caroleene Dobson | B34: 2331 | C34: =B34/B37 -> 0.56756757
A35: Christopher Christian Horn | B35: 1145 | C35: =B35/B37 -> 0.27879231
A36: Glenda S. Jackson | B36: 631 | C36: =B36/B37 -> 0.15364013
A37: Total | B37: =SUM(B34:B36) -> 4107 | C37: =SUM(C34:C36) -> 1
A39: Treasurer | B39: Votes | C39: Percentage
A40: Young Boozer | B40: 2961 | C40: =B40/B42 -> 0.67788462
A41: Steve Lolley | B41: 1407 | C41: =B41/B42 -> 0.32211538
A42: Total | B42: =SUM(B39:B41) -> 4368 | C42: =SUM(C39:C41) -> 1
A44: Auditor | B44: Votes | C44: Percentage
A45: Derek Chen | B45: 1106 | C45: =B45/B47 -> 0.25986842
A46: Andrew Sorrell | B46: 3150 | C46: =B46/B47 -> 0.74013158
...

Sheet Dallas
A1: Govenor | B1: Votes | C1: Percentage
A2: Ken McFeeters | B2: 51 | C2: =B2/B5 -> 0.032671365
A3: "Alabama" Will Santivasci | B3: 29 | C3: =B3/B5 -> 0.018577835
A4: Thomas Tuberville | B4: 1481 | C4: =B4/B5 -> 0.9487508
A5: Total | B5: =SUM(B2:B4) -> 1561 | C5: =SUM(C2:C4) -> 1
A7: Lt. Govenor | B7: Votes | C7: Percentage
A8: Wes Allen | B8: 797 | C8: =B8/B15 -> 0.5288653
A9: Pat Bishop | B9: 24 | C9: =B9/B15 -> 0.01592568
A10: George Childress | B10: 30 | C10: =B10/B15 -> 0.0199071
A11: Rick Pate | B11: 234 | C11: =B11/B15 -> 0.15527538
A12: Stewart Hill Tankersley | B12: 20 | C12: =B12/B15 -> 0.0132714
A13: Nicole Jones Wadsworth | B13: 38 | C13: =B13/B15 -> 0.02521566
A14: John Wahl | B14: 364 | C14: =B14/B15 -> 0.24153948
A15: Total | B15: =SUM(B8:B14) -> 1507 | C15: =SUM(C8:C14) -> 1
A17: Senator | B17: Votes | C17: Percentage
A18: Seth Burton | B18: 28 | C18: =B18/B25 -> 0.018421053
A19: Dale Shelton Deas Jr. | B19: 16 | C19: =B19/B25 -> 0.010526316
A20: Jared Hudson | B20: 218 | C20: =B20/B25 -> 0.14342105
A21: Steve Marshall | B21: 530 | C21: =B21/B25 -> 0.34868421
A22: Barry Moore | B22: 692 | C22: =B22/B25 -> 0.45526316
A23: Morgan Murphy | B23: 13 | C23: =B23/B25 -> 0.0085526316
A24: Rodney Walker | B24: 23 | C24: =B24/B25 -> 0.015131579
A25: Total | B25: =SUM(B18:B24) -> 1520 | C25: =SUM(C18:C24) -> 1
A27: Attorney General | B27: Votes | C27: Percentage
A28: Pamela L. Casey | B28: 176 | C28: =B28/B31 -> 0.11325611
A29: Jay Mitchell | B29: 259 | C29: =B29/B31 -> 0.16666667
A30: Katherine Robertson | B30: 1119 | C30: =B30/B31 -> 0.72007722
A31: Total | B31: =SUM(B28:B30) -> 1554 | C31: =SUM(C28:C30) -> 1
A33: Secretary of State | B33: Votes | C33: Percentage
